BEGIN:VCALENDAR
VERSION:2.0
PRODID:Events Booking
BEGIN:VEVENT
UID:69e74dc667083
SUMMARY:Züchterbesuch
DESCRIPTION:Datum eventuell am SO\, 13. September 2020
DTSTART:20200912T000000Z
DTSTAMP:20260421T121326Z
ORGANIZER:MAILTO:swisslinks@gmx.ch
END:VEVENT
END:VCALENDAR