BEGIN:VCALENDAR
VERSION:2.0
PRODID:Events Booking
BEGIN:VEVENT
UID:69e74e21b3b53
SUMMARY:Züchterbesuch Winterthur
DESCRIPTION:
LOCATION:8400 Winterthur
DTSTART:20190921T000000Z
DTSTAMP:20260421T121457Z
ORGANIZER:MAILTO:swisslinks@gmx.ch
GEO:47.485687;8.729292
X-APPLE-STRUCTURED-LOCATION;VALUE=URI;X-ADDRESS=8400 Winterthur;X-APPLE-RAD
 IUS=72;X-TITLE=Unbekannt\, Winterthur:47.485687;8.729292
END:VEVENT
END:VCALENDAR