BEGIN:VCALENDAR
VERSION:2.0
PRODID:Events Booking
BEGIN:VEVENT
UID:69e74dce029fc
SUMMARY:Züchterbesuch Intern
DESCRIPTION:
DTSTART:20220820T000000Z
DTSTAMP:20220406T190141Z
ORGANIZER:MAILTO:swisslinks@gmx.ch
END:VEVENT
END:VCALENDAR