BEGIN:VCALENDAR
VERSION:2.0
PRODID:Events Booking
BEGIN:VEVENT
UID:69e74e01bd364
SUMMARY:Züchterbesuch
DESCRIPTION:Wir besuchen die Züchter der Kleintierfreunde Säuliamt
DTSTART:20230923T000000Z
DTSTAMP:20230324T153958Z
ORGANIZER:MAILTO:swisslinks@gmx.ch
END:VEVENT
END:VCALENDAR