BEGIN:VCALENDAR
VERSION:2.0
PRODID:Events Booking
BEGIN:VEVENT
UID:69e74e213b632
SUMMARY:Vorständetagung AKV
DESCRIPTION:
LOCATION:Landstrasse 39\, 5073 Gipf-Oberfrick
DTSTART:20180818T090000Z
DTSTAMP:20260421T121457Z
ORGANIZER:MAILTO:swisslinks@gmx.ch
GEO:47.498331;8.004096
X-APPLE-STRUCTURED-LOCATION;VALUE=URI;X-ADDRESS=Landstrasse 39\, 5073 Gipf-
 Oberfrick;X-APPLE-RADIUS=72;X-TITLE=Gasthof Adler\, Gipf-Oberfrick:47.4983
 31;8.004096
END:VEVENT
END:VCALENDAR