BEGIN:VCALENDAR
VERSION:2.0
PRODID:Events Booking
BEGIN:VEVENT
UID:69e74e57ac7ea
SUMMARY:Vorbewertung Kaninchen
DESCRIPTION:
LOCATION:Marktstrasse 9a\, 5630 Muri
DTSTART:20191102T080000Z
DTSTAMP:20260421T121551Z
ORGANIZER:MAILTO:swisslinks@gmx.ch
GEO:47.274942;8.336451
X-APPLE-STRUCTURED-LOCATION;VALUE=URI;X-ADDRESS=Marktstrasse 9a\, 5630 Muri
 ;X-APPLE-RADIUS=72;X-TITLE=Familie Mäder\, Muri:47.274942;8.336451
END:VEVENT
END:VCALENDAR