BEGIN:VCALENDAR
VERSION:2.0
PRODID:Events Booking
BEGIN:VEVENT
UID:69e74eb379deb
SUMMARY:Vorbewertung Geflügel
DESCRIPTION:
DTSTART:20181014T000000Z
DTSTAMP:20260421T121723Z
ORGANIZER:MAILTO:swisslinks@gmx.ch
END:VEVENT
END:VCALENDAR