BEGIN:VCALENDAR
VERSION:2.0
PRODID:Events Booking
BEGIN:VEVENT
UID:69e74e91e7581
SUMMARY:Vorbewertung Geflügel
DESCRIPTION:
LOCATION:Zürichstrasse 53\, 5634 Merenschwand
DTSTART:20201011T080000Z
DTSTAMP:20260421T121649Z
ORGANIZER:MAILTO:swisslinks@gmx.ch
GEO:47.264093;8.395759
X-APPLE-STRUCTURED-LOCATION;VALUE=URI;X-ADDRESS=Zürichstrasse 53\, 5634 Me
 renschwand;X-APPLE-RADIUS=72;X-TITLE=T. Küng\, Merenschwand:47.264093;8.3
 95759
END:VEVENT
END:VCALENDAR