BEGIN:VCALENDAR
VERSION:2.0
PRODID:Events Booking
BEGIN:VEVENT
UID:69e74dc692f4f
SUMMARY:Vereinsreise
DESCRIPTION:
DTSTART:20170820T000000Z
DTSTAMP:20260421T121326Z
ORGANIZER:MAILTO:swisslinks@gmx.ch
END:VEVENT
END:VCALENDAR