BEGIN:VCALENDAR
VERSION:2.0
PRODID:Events Booking
BEGIN:VEVENT
UID:69e74e23b3cee
SUMMARY:Vereinsreise
DESCRIPTION:Wir besuchen die ALA in Lenzburg.
 SA\, 2. oder So\, 3. Septem
 ber 2023
DTSTART:20230902T000000Z
DTSTAMP:20230324T153727Z
ORGANIZER:MAILTO:swisslinks@gmx.ch
END:VEVENT
END:VCALENDAR