BEGIN:VCALENDAR
VERSION:2.0
PRODID:Events Booking
BEGIN:VEVENT
UID:69e74e00e8427
SUMMARY:Vereinsreise
DESCRIPTION:
DTSTART:20200823T000000Z
DTSTAMP:20260421T121424Z
ORGANIZER:MAILTO:swisslinks@gmx.ch
END:VEVENT
END:VCALENDAR