BEGIN:VCALENDAR
VERSION:2.0
PRODID:Events Booking
BEGIN:VEVENT
UID:69e74e00e8c51
SUMMARY:Vereinsreise
DESCRIPTION:
DTSTART:20190818T000000Z
DTSTAMP:20260421T121424Z
ORGANIZER:MAILTO:swisslinks@gmx.ch
END:VEVENT
END:VCALENDAR