BEGIN:VCALENDAR
VERSION:2.0
PRODID:Events Booking
BEGIN:VEVENT
UID:69e74e03bbbc8
SUMMARY:Vereinsreise
DESCRIPTION:
DTSTART:20180819T000000Z
DTSTAMP:20260421T121427Z
ORGANIZER:MAILTO:swisslinks@gmx.ch
END:VEVENT
END:VCALENDAR