BEGIN:VCALENDAR
VERSION:2.0
PRODID:Events Booking
BEGIN:VEVENT
UID:69e74e209527e
SUMMARY:Stand am Martinimarkt
DESCRIPTION:Martinimarkt Muri wegen Coronavirus abgesagt.
LOCATION:Marktstrasse 7\, 5630 Muri
DTSTART:20201111T090000Z
DTEND:20201111T180000Z
DTSTAMP:20260421T121456Z
ORGANIZER:MAILTO:swisslinks@gmx.ch
GEO:47.27468;8.336921
X-APPLE-STRUCTURED-LOCATION;VALUE=URI;X-ADDRESS=Marktstrasse 7\, 5630 Muri;
 X-APPLE-RADIUS=72;X-TITLE=Marktstrasse\, Muri:47.27468;8.336921
END:VEVENT
END:VCALENDAR