BEGIN:VCALENDAR
VERSION:2.0
PRODID:Events Booking
BEGIN:VEVENT
UID:69e74e0240380
SUMMARY:Stand am Maimarkt
DESCRIPTION:www.markt-muri.ch
 Maimarkt wegen Coronavirus abgesagt.
LOCATION:Marktstrasse 7\, 5630 Muri
DTSTART:20200502T090000Z
DTEND:20200502T180000Z
DTSTAMP:20260421T121426Z
ORGANIZER:MAILTO:swisslinks@gmx.ch
GEO:47.27468;8.336921
X-APPLE-STRUCTURED-LOCATION;VALUE=URI;X-ADDRESS=Marktstrasse 7\, 5630 Muri;
 X-APPLE-RADIUS=72;X-TITLE=Marktstrasse\, Muri:47.27468;8.336921
END:VEVENT
END:VCALENDAR