BEGIN:VCALENDAR
VERSION:2.0
PRODID:Events Booking
BEGIN:VEVENT
UID:69e74e5930112
SUMMARY:Sonntigshöck mit Bräteln
DESCRIPTION:
LOCATION:5632 Buttwil\, Schweiz
DTSTART:20220724T113000Z
DTSTAMP:20220406T185853Z
ORGANIZER:MAILTO:swisslinks@gmx.ch
GEO:47.267992;8.310801
X-APPLE-STRUCTURED-LOCATION;VALUE=URI;X-ADDRESS=5632 Buttwil\, Schweiz;X-AP
 PLE-RADIUS=72;X-TITLE=Mannli-Hütte\, Buttwil:47.267992;8.310801
END:VEVENT
END:VCALENDAR