BEGIN:VCALENDAR
VERSION:2.0
PRODID:Events Booking
BEGIN:VEVENT
UID:69e74ecf8bae1
SUMMARY:Schweizerische Jugendausstellung
DESCRIPTION:
LOCATION:Schützenmatte\, 5600 Lenzburg
DTSTART:20190119T000000Z
DTEND:20190120T000000Z
DTSTAMP:20260421T121751Z
ORGANIZER:MAILTO:swisslinks@gmx.ch
GEO:47.391786;8.183599
X-APPLE-STRUCTURED-LOCATION;VALUE=URI;X-ADDRESS=Schützenmatte\, 5600 Lenzb
 urg;X-APPLE-RADIUS=72;X-TITLE=Mehrzweckhalle\, Lenzburg:47.391786;8.183599
END:VEVENT
END:VCALENDAR