BEGIN:VCALENDAR
VERSION:2.0
PRODID:Events Booking
BEGIN:VEVENT
UID:69e74e22b3d9a
SUMMARY:Parkreinigung
DESCRIPTION:
LOCATION:5702 Niederlenz
DTSTART:20200328T000000Z
DTSTAMP:20260421T121458Z
ORGANIZER:MAILTO:swisslinks@gmx.ch
GEO:47.40157;8.176117
X-APPLE-STRUCTURED-LOCATION;VALUE=URI;X-ADDRESS=5702 Niederlenz;X-APPLE-RAD
 IUS=72;X-TITLE=Unbekannt\, Niederlenz:47.40157;8.176117
END:VEVENT
END:VCALENDAR