BEGIN:VCALENDAR
VERSION:2.0
PRODID:Events Booking
BEGIN:VEVENT
UID:69e74e58a9cef
SUMMARY:Oldiwägeler Treffen
DESCRIPTION:www.oldiwaegeler-freiamt.ch
LOCATION:Lärchenhof 1\, 5623 Boswil
DTSTART:20220625T000000Z
DTEND:20220626T000000Z
DTSTAMP:20260421T121552Z
ORGANIZER:MAILTO:swisslinks@gmx.ch
GEO:47.311463;8.311934
X-APPLE-STRUCTURED-LOCATION;VALUE=URI;X-ADDRESS=Lärchenhof 1\, 5623 Boswil
 ;X-APPLE-RADIUS=72;X-TITLE=Lärchenhof\, Boswil:47.311463;8.311934
END:VEVENT
END:VCALENDAR