BEGIN:VCALENDAR
VERSION:2.0
PRODID:Events Booking
BEGIN:VEVENT
UID:69e74f4741ea0
SUMMARY:Nationale Geflügelausstellung
DESCRIPTION:www.nationale2020.ch
LOCATION:Wartstrasse 73\, 8400 Winterthur
DTSTART:20201212T000000Z
DTEND:20201213T000000Z
DTSTAMP:20260421T121951Z
ORGANIZER:MAILTO:swisslinks@gmx.ch
GEO:47.503324;8.71207
X-APPLE-STRUCTURED-LOCATION;VALUE=URI;X-ADDRESS=Wartstrasse 73\, 8400 Winte
 rthur;X-APPLE-RADIUS=72;X-TITLE=Eulachhallen\, Winterthur:47.503324;8.7120
 7
END:VEVENT
END:VCALENDAR