BEGIN:VCALENDAR
VERSION:2.0
PRODID:Events Booking
BEGIN:VEVENT
UID:69e74f76a4dd3
SUMMARY:Nat. Geflügelausstellung
DESCRIPTION:
LOCATION:Siggenthal Station\, 5303 Würenlingen\, Schweiz
DTSTART:20221112T000000Z
DTEND:20221113T000000Z
DTSTAMP:20211114T191038Z
ORGANIZER:MAILTO:swisslinks@gmx.ch
GEO:47.519135;8.24168
X-APPLE-STRUCTURED-LOCATION;VALUE=URI;X-ADDRESS=Siggenthal Station\, 5303 W
 ürenlingen\, Schweiz;X-APPLE-RADIUS=72;X-TITLE=Unbekannt\, Siggenthal Sta
 tion:47.519135;8.24168
END:VEVENT
END:VCALENDAR