BEGIN:VCALENDAR
VERSION:2.0
PRODID:Events Booking
BEGIN:VEVENT
UID:69e74fc0d5fb5
SUMMARY:KTV Aargau Süd\, Ausstellung
DESCRIPTION:
LOCATION:5703 Seon
DTSTART:20191213T000000Z
DTEND:20191215T000000Z
DTSTAMP:20260421T122152Z
ORGANIZER:MAILTO:swisslinks@gmx.ch
GEO:47.34811;8.15887
X-APPLE-STRUCTURED-LOCATION;VALUE=URI;X-ADDRESS=5703 Seon;X-APPLE-RADIUS=72
 ;X-TITLE=Unbekannt\, Seon:47.34811;8.15887
END:VEVENT
END:VCALENDAR