BEGIN:VCALENDAR
VERSION:2.0
PRODID:Events Booking
BEGIN:VEVENT
UID:69e74fd0474ec
SUMMARY:KTV Aargau Süd\, Ausstellung
DESCRIPTION:Wegen Coronavirus abgesagt.
LOCATION:6285 Hitzkirch
DTSTART:20201230T000000Z
DTEND:20201231T000000Z
DTSTAMP:20260421T122208Z
ORGANIZER:MAILTO:swisslinks@gmx.ch
GEO:47.222562;8.258669
X-APPLE-STRUCTURED-LOCATION;VALUE=URI;X-ADDRESS=6285 Hitzkirch;X-APPLE-RADI
 US=72;X-TITLE=Turnhalle\, Hitzkirch:47.222562;8.258669
END:VEVENT
END:VCALENDAR