BEGIN:VCALENDAR
VERSION:2.0
PRODID:Events Booking
BEGIN:VEVENT
UID:69e74e27157dc
SUMMARY:Kleintierausstellung
DESCRIPTION:
LOCATION:Bachmatten 13\, 5630 Muri
DTSTART:20171229T090000Z
DTEND:20171230T160000Z
DTSTAMP:20260421T121503Z
ORGANIZER:MAILTO:swisslinks@gmx.ch
GEO:47.277804;8.344258
X-APPLE-STRUCTURED-LOCATION;VALUE=URI;X-ADDRESS=Bachmatten 13\, 5630 Muri;X
 -APPLE-RADIUS=72;X-TITLE=Sporthalle Bachmatten\, Muri:47.277804;8.344258
END:VEVENT
END:VCALENDAR