BEGIN:VCALENDAR
VERSION:2.0
PRODID:Events Booking
BEGIN:VEVENT
UID:69e74f251a0ae
SUMMARY:Kleintierausstellung Schweiz
DESCRIPTION:www.freiburg2018.ch
LOCATION:Route du Lac 12\, 1763 Granges-Paccot
DTSTART:20180105T000000Z
DTEND:20180107T000000Z
DTSTAMP:20260421T121917Z
ORGANIZER:MAILTO:swisslinks@gmx.ch
GEO:46.824173;7.153188
X-APPLE-STRUCTURED-LOCATION;VALUE=URI;X-ADDRESS=Route du Lac 12\, 1763 Gran
 ges-Paccot;X-APPLE-RADIUS=72;X-TITLE=Forum Fribourg\, Granges-Paccot:46.82
 4173;7.153188
END:VEVENT
END:VCALENDAR