BEGIN:VCALENDAR
VERSION:2.0
PRODID:Events Booking
BEGIN:VEVENT
UID:69e74e757461c
SUMMARY:Kleintierausstellung
DESCRIPTION:Kleintierausstellung bei jeder Witterung.
 Donnerstag\, 18. Ma
 i 2023 (Auffahrt)
 Der ideale Ausflug für die ganze Familie.
 Festwirts
 chaft und feine hausgemachte Kuchen.
LOCATION:Muristrasse 32\, 8913 Ottenbach\, Schweiz
DTSTART:20230518T090000Z
DTEND:20230518T170000Z
DTSTAMP:20230324T152529Z
ORGANIZER:MAILTO:swisslinks@gmx.ch
GEO:47.279883;8.39513
X-APPLE-STRUCTURED-LOCATION;VALUE=URI;X-ADDRESS=Muristrasse 32\, 8913 Otten
 bach\, Schweiz;X-APPLE-RADIUS=72;X-TITLE=Ottenbach ZH:47.279883;8.39513
END:VEVENT
END:VCALENDAR