BEGIN:VCALENDAR
VERSION:2.0
PRODID:Events Booking
BEGIN:VEVENT
UID:69e74e2097268
SUMMARY:Kantonale Rammlerschau
DESCRIPTION:
DTSTART:20230107T000000Z
DTEND:20230108T000000Z
DTSTAMP:20220406T191258Z
ORGANIZER:MAILTO:swisslinks@gmx.ch
END:VEVENT
END:VCALENDAR