BEGIN:VCALENDAR
VERSION:2.0
PRODID:Events Booking
BEGIN:VEVENT
UID:69e74f782a882
SUMMARY:Jungtierschau am Maimarkt Muri
DESCRIPTION:www.markt-muri.ch
LOCATION:Marktstrasse 7\, 5630 Muri
DTSTART:20190504T090000Z
DTEND:20190504T180000Z
DTSTAMP:20260421T122040Z
ORGANIZER:MAILTO:swisslinks@gmx.ch
GEO:47.27468;8.336921
X-APPLE-STRUCTURED-LOCATION;VALUE=URI;X-ADDRESS=Marktstrasse 7\, 5630 Muri;
 X-APPLE-RADIUS=72;X-TITLE=Marktstrasse\, Muri:47.27468;8.336921
END:VEVENT
END:VCALENDAR