BEGIN:VCALENDAR
VERSION:2.0
PRODID:Events Booking
BEGIN:VEVENT
UID:69e74e034056f
SUMMARY:Jahresausflug
DESCRIPTION:
DTSTART:20220911T000000Z
DTSTAMP:20220406T190252Z
ORGANIZER:MAILTO:swisslinks@gmx.ch
END:VEVENT
END:VCALENDAR