BEGIN:VCALENDAR
VERSION:2.0
PRODID:Events Booking
BEGIN:VEVENT
UID:69e74dce7daeb
SUMMARY:Herbstversammlung
DESCRIPTION:
DTSTART:20221021T000000Z
DTSTAMP:20220406T190732Z
ORGANIZER:MAILTO:swisslinks@gmx.ch
END:VEVENT
END:VCALENDAR