BEGIN:VCALENDAR
VERSION:2.0
PRODID:Events Booking
BEGIN:VEVENT
UID:69e74dd07efe2
SUMMARY:Herbstversammlung
DESCRIPTION:
DTSTART:20191011T193000Z
DTSTAMP:20260421T121336Z
ORGANIZER:MAILTO:swisslinks@gmx.ch
END:VEVENT
END:VCALENDAR