BEGIN:VCALENDAR
VERSION:2.0
PRODID:Events Booking
BEGIN:VEVENT
UID:69e74f48ef493
SUMMARY:GV KTF Muri und Umgebung
DESCRIPTION:
LOCATION:Luzernerstrasse 58\, 5630 Muri
DTSTART:20170303T193000Z
DTSTAMP:20260421T121952Z
ORGANIZER:MAILTO:swisslinks@gmx.ch
GEO:47.268178;8.345958
X-APPLE-STRUCTURED-LOCATION;VALUE=URI;X-ADDRESS=Luzernerstrasse 58\, 5630 M
 uri;X-APPLE-RADIUS=72;X-TITLE=Hotel Restaurant Engel\, Muri:47.268178;8.34
 5958
END:VEVENT
END:VCALENDAR