BEGIN:VCALENDAR
VERSION:2.0
PRODID:Events Booking
BEGIN:VEVENT
UID:69e74f78a504f
SUMMARY:GV KTF Muri und Umgebung
DESCRIPTION:Interessierte Kleintierfreunde sind herzlich willkommen.
LOCATION:Zürcherstrasse 28\, 5630 Muri
DTSTART:20200313T193000Z
DTSTAMP:20260421T122040Z
ORGANIZER:MAILTO:swisslinks@gmx.ch
GEO:47.276089;8.346224
X-APPLE-STRUCTURED-LOCATION;VALUE=URI;X-ADDRESS=Zürcherstrasse 28\, 5630 M
 uri;X-APPLE-RADIUS=72;X-TITLE=Gasthof Rössli\, Muri:47.276089;8.346224
END:VEVENT
END:VCALENDAR