BEGIN:VCALENDAR
VERSION:2.0
PRODID:Events Booking
BEGIN:VEVENT
UID:69e74f6b86da6
SUMMARY:GV KTF Muri und Umgebung
DESCRIPTION:
LOCATION:Luzernerstrasse 53\, 5630 Muri
DTSTART:20180302T193000Z
DTSTAMP:20260421T122027Z
ORGANIZER:MAILTO:swisslinks@gmx.ch
GEO:47.268837;8.34509
X-APPLE-STRUCTURED-LOCATION;VALUE=URI;X-ADDRESS=Luzernerstrasse 53\, 5630 M
 uri;X-APPLE-RADIUS=72;X-TITLE=Restaurant Frohsinn\, Muri:47.268837;8.34509
END:VEVENT
END:VCALENDAR