BEGIN:VCALENDAR
VERSION:2.0
PRODID:Events Booking
BEGIN:VEVENT
UID:69e74f6bad96a
SUMMARY:GV KTF Muri und Umgebung
DESCRIPTION:
DTSTART:20190301T193000Z
DTSTAMP:20260421T122027Z
ORGANIZER:MAILTO:swisslinks@gmx.ch
END:VEVENT
END:VCALENDAR