BEGIN:VCALENDAR
VERSION:2.0
PRODID:Events Booking
BEGIN:VEVENT
UID:69e74d931f0bd
SUMMARY:Generalversammlung
DESCRIPTION:
DTSTART:20230310T000000Z
DTSTAMP:20220406T191356Z
ORGANIZER:MAILTO:swisslinks@gmx.ch
END:VEVENT
END:VCALENDAR