BEGIN:VCALENDAR
VERSION:2.0
PRODID:Events Booking
BEGIN:VEVENT
UID:69e74f33c55ca
SUMMARY:Eröffnung Lehrbienenstand
DESCRIPTION:Lehrbienenstand Freiamtwww.lehrbienenstand-freiamt.ch
 Bienenz
 üchter Verein Muri &amp\; Umgebungwww.bienen-ag.ch
 Aufgrund des Coronav
 irus ist die geplante Eröffnungsfeier vom 16. / 17. Mai 2020 auf unbestim
 mte Zeit verschoben!
LOCATION:Kestenbergstrasse 22\, 5642 Mühlau
DTSTART:20200517T000000Z
DTSTAMP:20260421T121931Z
ORGANIZER:MAILTO:swisslinks@gmx.ch
GEO:47.237766;8.380244
X-APPLE-STRUCTURED-LOCATION;VALUE=URI;X-ADDRESS=Kestenbergstrasse 22\, 5642
  Mühlau;X-APPLE-RADIUS=72;X-TITLE=Lehrbienenstand\, Mühlau:47.237766;8.3
 80244
END:VEVENT
END:VCALENDAR