BEGIN:VCALENDAR
VERSION:2.0
PRODID:Events Booking
BEGIN:VEVENT
UID:69e74e926ea56
SUMMARY:DV KTV Aargau Süd
DESCRIPTION:
LOCATION:Hauptstrasse 72\, 5734 Reinach
DTSTART:20200221T200000Z
DTSTAMP:20260421T121650Z
ORGANIZER:MAILTO:swisslinks@gmx.ch
GEO:47.250047;8.183096
X-APPLE-STRUCTURED-LOCATION;VALUE=URI;X-ADDRESS=Hauptstrasse 72\, 5734 Rein
 ach;X-APPLE-RADIUS=72;X-TITLE=Restaurant zum Schneggen\, Reinach:47.250047
 ;8.183096
END:VEVENT
END:VCALENDAR