BEGIN:VCALENDAR
VERSION:2.0
PRODID:Events Booking
BEGIN:VEVENT
UID:69e74e28d0e18
SUMMARY:DV Kleintiere Schweiz
DESCRIPTION:
LOCATION:1400 Yverdon-les-Bains
DTSTART:20180609T000000Z
DTEND:20180610T000000Z
DTSTAMP:20260421T121504Z
ORGANIZER:MAILTO:swisslinks@gmx.ch
GEO:46.778474;6.641183
X-APPLE-STRUCTURED-LOCATION;VALUE=URI;X-ADDRESS=1400 Yverdon-les-Bains;X-AP
 PLE-RADIUS=72;X-TITLE=Unbekannt\, Yverdon:46.778474;6.641183
END:VEVENT
END:VCALENDAR