BEGIN:VCALENDAR
VERSION:2.0
PRODID:Events Booking
BEGIN:VEVENT
UID:69e74e946e7d0
SUMMARY:DV Kleintiere Schweiz
DESCRIPTION:
LOCATION:Freiburg\, Schweiz
DTSTART:20230610T000000Z
DTSTAMP:20230324T152734Z
ORGANIZER:MAILTO:swisslinks@gmx.ch
GEO:46.806477;7.161972
X-APPLE-STRUCTURED-LOCATION;VALUE=URI;X-ADDRESS=Freiburg\, Schweiz;X-APPLE-
 RADIUS=72;X-TITLE=Fribourg:46.806477;7.161972
END:VEVENT
END:VCALENDAR