BEGIN:VCALENDAR
VERSION:2.0
PRODID:Events Booking
BEGIN:VEVENT
UID:69e74e781d15d
SUMMARY:DV Kleintiere Schweiz
DESCRIPTION:
LOCATION:2800 Delémont
DTSTART:20220611T000000Z
DTSTAMP:20220406T192853Z
ORGANIZER:MAILTO:swisslinks@gmx.ch
GEO:47.366892;7.332472
X-APPLE-STRUCTURED-LOCATION;VALUE=URI;X-ADDRESS=2800 Delémont;X-APPLE-RADI
 US=72;X-TITLE=Unbekannt\, Delémont:47.366892;7.332472
END:VEVENT
END:VCALENDAR