BEGIN:VCALENDAR
VERSION:2.0
PRODID:Events Booking
BEGIN:VEVENT
UID:69e74e5696838
SUMMARY:DV Kleintiere Schweiz
DESCRIPTION:
LOCATION:3123 Belp
DTSTART:20190616T090000Z
DTSTAMP:20260421T121550Z
ORGANIZER:MAILTO:swisslinks@gmx.ch
GEO:46.895252;7.50463
X-APPLE-STRUCTURED-LOCATION;VALUE=URI;X-ADDRESS=3123 Belp;X-APPLE-RADIUS=72
 ;X-TITLE=Unbekannt\, Belp:46.895252;7.50463
END:VEVENT
END:VCALENDAR