BEGIN:VCALENDAR
VERSION:2.0
PRODID:Events Booking
BEGIN:VEVENT
UID:69e74e59aa23c
SUMMARY:DV Kleintiere Schweiz\, Fachverbände
DESCRIPTION:
LOCATION:3123 Belp
DTSTART:20190615T140000Z
DTSTAMP:20260421T121553Z
ORGANIZER:MAILTO:swisslinks@gmx.ch
GEO:46.895252;7.50463
X-APPLE-STRUCTURED-LOCATION;VALUE=URI;X-ADDRESS=3123 Belp;X-APPLE-RADIUS=72
 ;X-TITLE=Unbekannt\, Belp:46.895252;7.50463
END:VEVENT
END:VCALENDAR