BEGIN:VCALENDAR
VERSION:2.0
PRODID:Events Booking
BEGIN:VEVENT
UID:69e74e2f5a463
SUMMARY:DV Freiämter KTZV
DESCRIPTION:
LOCATION:Kirchenrain 10\, 5610 Wohlen
DTSTART:20170316T200000Z
DTSTAMP:20260421T121511Z
ORGANIZER:MAILTO:swisslinks@gmx.ch
GEO:47.351882;8.278212
X-APPLE-STRUCTURED-LOCATION;VALUE=URI;X-ADDRESS=Kirchenrain 10\, 5610 Wohle
 n;X-APPLE-RADIUS=72;X-TITLE=Hotel Restaurant Sternen\, Wohlen:47.351882;8.
 278212
END:VEVENT
END:VCALENDAR