BEGIN:VCALENDAR
VERSION:2.0
PRODID:Events Booking
BEGIN:VEVENT
UID:69e74e77975e7
SUMMARY:DV Freiämter KTZV
DESCRIPTION:
LOCATION:Hauptstrasse 12\, 5524 Niederwil
DTSTART:20190321T200000Z
DTSTAMP:20260421T121623Z
ORGANIZER:MAILTO:swisslinks@gmx.ch
GEO:47.377937;8.294619
X-APPLE-STRUCTURED-LOCATION;VALUE=URI;X-ADDRESS=Hauptstrasse 12\, 5524 Nied
 erwil;X-APPLE-RADIUS=72;X-TITLE=Restaurant Kreuz\, Niederwil:47.377937;8.2
 94619
END:VEVENT
END:VCALENDAR