BEGIN:VCALENDAR
VERSION:2.0
PRODID:Events Booking
BEGIN:VEVENT
UID:69e74f10d8c66
SUMMARY:DV Fachabteilungen AKV
DESCRIPTION:
LOCATION:5035 Unterentfelden
DTSTART:20180407T143000Z
DTSTAMP:20260421T121856Z
ORGANIZER:MAILTO:swisslinks@gmx.ch
GEO:47.370843;8.042295
X-APPLE-STRUCTURED-LOCATION;VALUE=URI;X-ADDRESS=5035 Unterentfelden;X-APPLE
 -RADIUS=72;X-TITLE=Diverse Orte\, Unterentfelden:47.370843;8.042295
END:VEVENT
END:VCALENDAR