BEGIN:VCALENDAR
VERSION:2.0
PRODID:Events Booking
BEGIN:VEVENT
UID:69e74d91063c7
SUMMARY:DV AKV
DESCRIPTION:Hauptversammlung beginnt um 18:00 Uhr
LOCATION:Breitenstrasse 5\, 5420 Ehrendingen
DTSTART:20200321T143000Z
DTSTAMP:20260421T121233Z
ORGANIZER:MAILTO:swisslinks@gmx.ch
GEO:47.493441;8.341608
X-APPLE-STRUCTURED-LOCATION;VALUE=URI;X-ADDRESS=Breitenstrasse 5\, 5420 Ehr
 endingen;X-APPLE-RADIUS=72;X-TITLE=Turnhalle Lägernbreite\, Ehrendingen:4
 7.493441;8.341608
END:VEVENT
END:VCALENDAR