BEGIN:VCALENDAR
VERSION:2.0
PRODID:Events Booking
BEGIN:VEVENT
UID:69e74d9195907
SUMMARY:DV AKV
DESCRIPTION:
LOCATION:5057 Reitnau
DTSTART:20190323T000000Z
DTSTAMP:20260421T121233Z
ORGANIZER:MAILTO:swisslinks@gmx.ch
GEO:47.250371;8.041211
X-APPLE-STRUCTURED-LOCATION;VALUE=URI;X-ADDRESS=5057 Reitnau;X-APPLE-RADIUS
 =72;X-TITLE=Unbekannt\, Reitnau:47.250371;8.041211
END:VEVENT
END:VCALENDAR