BEGIN:VCALENDAR
VERSION:2.0
PRODID:Events Booking
BEGIN:VEVENT
UID:69e74d9396801
SUMMARY:DV AKV
DESCRIPTION:
LOCATION: Roggenhausenstrasse\, 5035 Unterentfelden
DTSTART:20180407T180000Z
DTSTAMP:20260421T121235Z
ORGANIZER:MAILTO:swisslinks@gmx.ch
GEO:47.367598;8.039985
X-APPLE-STRUCTURED-LOCATION;VALUE=URI;X-ADDRESS= Roggenhausenstrasse\, 5035
  Unterentfelden;X-APPLE-RADIUS=72;X-TITLE=Dreifachturnhalle Bünten\, Unte
 rentfelden:47.367598;8.039985
END:VEVENT
END:VCALENDAR