BEGIN:VCALENDAR
VERSION:2.0
PRODID:Events Booking
BEGIN:VEVENT
UID:69e74dc917a18
SUMMARY:DV AKV
DESCRIPTION:
LOCATION:Oberdorf 9\, 5637 Beinwil (Freiamt)
DTSTART:20170318T180000Z
DTSTAMP:20260421T121329Z
ORGANIZER:MAILTO:swisslinks@gmx.ch
GEO:47.23071;8.341387
X-APPLE-STRUCTURED-LOCATION;VALUE=URI;X-ADDRESS=Oberdorf 9\, 5637 Beinwil (
 Freiamt);X-APPLE-RADIUS=72;X-TITLE=Turnhalle Beinwil (Freiamt)\, Beinwil:4
 7.23071;8.341387
END:VEVENT
END:VCALENDAR